BEGIN:VCALENDAR
VERSION:2.0
PRODID:ConsultVox
NAME:Réunion tourisme du jeudi 14 mars à 14h
X-WR-CALNAME:Réunion tourisme du jeudi 14 mars à 14h
BEGIN:VTIMEZONE
TZID:UTC
BEGIN:STANDARD
DTSTART:20230618T130000Z
TZOFFSETFROM:+0000
TZOFFSETTO:+0000
END:STANDARD
END:VTIMEZONE
BEGIN:VEVENT
UID:Z6VZTXOQNyJ
DTSTAMP:20260426T020747Z
SUMMARY:Réunion tourisme du jeudi 14 mars à 14h
DESCRIPTION:Quelles sont vos attentes pour la future Via Mont Gerbier de Jo
 nc\, en tant que professionnel du tourisme ?
LOCATION:Mairie\, Chemin des Dentellières\, Les Estables\, France
DTSTART:20240314T130000Z
DTEND:20240314T150000Z
GEO:44.9042228;4.1542809
END:VEVENT
END:VCALENDAR