BEGIN:VCALENDAR
VERSION:2.0
PRODID:ConsultVox
NAME:Mini-expositions dans les communes traversées
X-WR-CALNAME:Mini-expositions dans les communes traversées
BEGIN:VTIMEZONE
TZID:UTC
BEGIN:STANDARD
DTSTART:20230518T080000Z
TZOFFSETFROM:+0000
TZOFFSETTO:+0000
END:STANDARD
END:VTIMEZONE
BEGIN:VEVENT
UID:2kklH0x60jj
DTSTAMP:20260426T014440Z
SUMMARY:Mini-expositions dans les communes traversées
DESCRIPTION:Venez consulter les mini-expositions informatives déployées d
 ans 4 communes traversées par le projet.
DTSTART:20240212T080000Z
DTEND:20240322T160000Z
END:VEVENT
END:VCALENDAR