BEGIN:VCALENDAR
VERSION:2.0
PRODID:ConsultVox
NAME:Webinaire du jeudi 7 mars à 18h
X-WR-CALNAME:Webinaire du jeudi 7 mars à 18h
BEGIN:VTIMEZONE
TZID:UTC
BEGIN:STANDARD
DTSTART:20230611T170000Z
TZOFFSETFROM:+0000
TZOFFSETTO:+0000
END:STANDARD
END:VTIMEZONE
BEGIN:VEVENT
UID:R66BHyK0NwQ
DTSTAMP:20260426T015403Z
SUMMARY:Webinaire du jeudi 7 mars à 18h
DESCRIPTION:Quelles sont vos attentes pour la Via Mont Gerbier de Jonc\, en
  tant que futur usager ?\nInscrivez-vous à cet atelier en ligne pour que 
 le projet y réponde au mieux !
DTSTART:20240307T170000Z
DTEND:20240307T190000Z
END:VEVENT
END:VCALENDAR