BEGIN:VCALENDAR
VERSION:2.0
PRODID:ConsultVox
NAME:Réunion publique à Brives-Charensac
X-WR-CALNAME:Réunion publique à Brives-Charensac
BEGIN:VTIMEZONE
TZID:UTC
BEGIN:STANDARD
DTSTART:20230519T170000Z
TZOFFSETFROM:+0000
TZOFFSETTO:+0000
END:STANDARD
END:VTIMEZONE
BEGIN:VEVENT
UID:J66zCg4All5
DTSTAMP:20260426T020458Z
SUMMARY:Réunion publique à Brives-Charensac
DESCRIPTION:Rendez-vous le mardi 13 février dans la salle du Conseil de la
  Mairie de Brives-Charensac !
LOCATION:Mairie\, Place de la Mairie\, Brives-Charensac\, France
DTSTART:20240213T170000Z
DTEND:20240213T190000Z
GEO:45.0468757;3.9264096
END:VEVENT
END:VCALENDAR