BEGIN:VCALENDAR
VERSION:2.0
PRODID:ConsultVox
NAME:Exposition au Monastier-sur-Gazeille
X-WR-CALNAME:Exposition au Monastier-sur-Gazeille
BEGIN:VTIMEZONE
TZID:UTC
BEGIN:STANDARD
DTSTART:20230518T080000Z
TZOFFSETFROM:+0000
TZOFFSETTO:+0000
END:STANDARD
END:VTIMEZONE
BEGIN:VEVENT
UID:mZRKfkLwGrv
DTSTAMP:20260426T015536Z
SUMMARY:Exposition au Monastier-sur-Gazeille
DESCRIPTION:Venez découvrir les métamorphoses de la voie fantôme dans l'
 expo \"La Transcévenole : passé\, présent\, avenir\". Du mardi au samed
 i\, dans le couloir du bâtiment conventuel du Monastier-sur-Gazeille\, en
  partenariat avec l'association La Transcévenole.
LOCATION:1 Rue Vital Erailh\, Le Monastier-sur-Gazeille\, France
DTSTART:20240212T080000Z
DTEND:20240322T190000Z
GEO:44.9399639;3.9951013
END:VEVENT
END:VCALENDAR